BEGIN:VCALENDAR
VERSION:2.0
PRODID:-//Tinnitus Clinic - ECPv6.10.0//NONSGML v1.0//EN
CALSCALE:GREGORIAN
METHOD:PUBLISH
X-ORIGINAL-URL:https://hashirtinnitusclinic.com
X-WR-CALDESC:Events for Tinnitus Clinic
REFRESH-INTERVAL;VALUE=DURATION:PT1H
X-Robots-Tag:noindex
X-PUBLISHED-TTL:PT1H
BEGIN:VTIMEZONE
TZID:UTC
BEGIN:STANDARD
TZOFFSETFROM:+0000
TZOFFSETTO:+0000
TZNAME:UTC
DTSTART:20240101T000000
END:STANDARD
END:VTIMEZONE
BEGIN:VEVENT
DTSTART;TZID=UTC:20241028T183000
DTEND;TZID=UTC:20241028T193000
DTSTAMP:20260421T111112
CREATED:20241009T163540Z
LAST-MODIFIED:20241011T072232Z
UID:10000007-1730140200-1730143800@hashirtinnitusclinic.com
SUMMARY:Exploring the Intersection of Birth Trauma and Hyperacusis Through Artistic Expression
DESCRIPTION:
URL:https://hashirtinnitusclinic.com/calendar/exploring-the-intersection-of-birth-trauma-and-hyperacusis-through-artistic-expression/
CATEGORIES:For patients,For public
ATTACH;FMTTYPE=image/jpeg:https://hashirtinnitusclinic.com/wp-content/uploads/2024/10/Oct-Thumnail.jpg
ORGANIZER;CN="Hashir International Institute":MAILTO:info@hashirtinnitusclinic.com
LOCATION:https://www.youtube.com/live/nMpUbJPGz3Y?si=NEUiLqY14mMekgzz
END:VEVENT
END:VCALENDAR