BEGIN:VCALENDAR
VERSION:2.0
PRODID:-//Tinnitus Clinic - ECPv6.10.0//NONSGML v1.0//EN
CALSCALE:GREGORIAN
METHOD:PUBLISH
X-ORIGINAL-URL:https://hashirtinnitusclinic.com
X-WR-CALDESC:Events for Tinnitus Clinic
REFRESH-INTERVAL;VALUE=DURATION:PT1H
X-Robots-Tag:noindex
X-PUBLISHED-TTL:PT1H
BEGIN:VTIMEZONE
TZID:UTC
BEGIN:STANDARD
TZOFFSETFROM:+0000
TZOFFSETTO:+0000
TZNAME:UTC
DTSTART:20250101T000000
END:STANDARD
END:VTIMEZONE
BEGIN:VEVENT
DTSTART;TZID=UTC:20250120T183000
DTEND;TZID=UTC:20250120T193000
DTSTAMP:20260424T204014
CREATED:20241218T150734Z
LAST-MODIFIED:20241218T150815Z
UID:10000012-1737397800-1737401400@hashirtinnitusclinic.com
SUMMARY:How to support children with Noise Sensitivity?
DESCRIPTION:Joanna Barker (Audiologist\, Specialist in Tinnitus\, Hyperacusis and Misophonia Rehabilitation) will be hosting this Patient Education online meeting. The first meeting in the new year is planned for 20th January 2025 6:30 to 7:30 PM (UK time). Our guest speaker is Emani Dotch (4th-year Ph.D. Candidate\, NSF GRFP Fellow\, UC-HBCU Fellow\, and Ceres Scholar in the Department of Informatics at UC Irvine) who will talk about “Accessibility Through Awareness of Noise Sensitivity Experiences”. In this talk Emani will be discussing with us the background on noise sensitivity as experienced by neurodivergent populations\, current research practices for supporting within the field of Human-Computer Interaction\, and a review of her work exploring technology design to support noise sensitivity awareness. There will be the chance to ask Emani any questions\, so please join live to get her expert opinion on noise sensitivity. This talk aims to empower people with the knowledge and tools to take control of their journey with these conditions. Are you taking CBT or planning to do so? This talk is for you!
URL:https://hashirtinnitusclinic.com/calendar/how-to-support-children-with-noise-sensitivity/
CATEGORIES:Patients,Target audience
ATTACH;FMTTYPE=image/jpeg:https://hashirtinnitusclinic.com/wp-content/uploads/2024/12/PEP-square.jpg
ORGANIZER;CN="Hashir International Institute":MAILTO:info@hashirtinnitusclinic.com
END:VEVENT
END:VCALENDAR