BEGIN:VCALENDAR
VERSION:2.0
PRODID:-//Tinnitus Clinic - ECPv6.10.0//NONSGML v1.0//EN
CALSCALE:GREGORIAN
METHOD:PUBLISH
X-WR-CALNAME:Tinnitus Clinic
X-ORIGINAL-URL:https://hashirtinnitusclinic.com
X-WR-CALDESC:Events for Tinnitus Clinic
REFRESH-INTERVAL;VALUE=DURATION:PT1H
X-Robots-Tag:noindex
X-PUBLISHED-TTL:PT1H
BEGIN:VTIMEZONE
TZID:UTC
BEGIN:STANDARD
TZOFFSETFROM:+0000
TZOFFSETTO:+0000
TZNAME:UTC
DTSTART:20250101T000000
END:STANDARD
END:VTIMEZONE
BEGIN:VEVENT
DTSTART;TZID=UTC:20250909T100000
DTEND;TZID=UTC:20250909T110000
DTSTAMP:20260421T164050
CREATED:20250121T163959Z
LAST-MODIFIED:20250121T164257Z
UID:10000018-1757412000-1757415600@hashirtinnitusclinic.com
SUMMARY:Sound Intolerance and Attention in Neurodivergent Populations
DESCRIPTION:The guest speaker in our Patient Education Programme (PEP) planned for Tuesday 9th September 2025 at 10:00 to 11:00 AM (UK time) is Dr. Patrick Dwyer who is a Research Fellow from the Olga Tennison Autism Research Centre\, School for Psychology and Public Health\, La Trobe University\, Bundoora\, VIC\, Australia! He will be talking about his latest research about Sound Intolerance and Attention in Neurodivergent Populations. Joanna Barker (Audiologist\, Specialist in Tinnitus\, Hyperacusis and Misophonia Rehabilitation) will be hosting this PEP meeting.\n\nAlthough sensory differences in neurodivergent populations have often been described in relatively crude ways (as “hyperreactivity” versus “seeking\,” for example)\, more recent research highlights the greater complexity of neurodivergent sensory experience.  For example\, this includes distinct phenotypes of sound intolerance such as misophonia and loudness intolerance/hyperacusis. However\, these experiences remain poorly understood.  One understudied factor that may be involved in such experiences is attention.  With a primary focus on autism and a secondary focus on ADHD\, this presentation will discuss commonly observed neurodivergent attention patterns such as hyper-focus\, monotropism\, and hypervigilance\, and present data on how these may relate to experiences of sound intolerance as well as mental health challenges.
URL:https://hashirtinnitusclinic.com/calendar/sound-intolerance-and-attention-in-neurodivergent-populations/
CATEGORIES:Audiologists,General medicine,Hearing aid dispensers,Neurologists,Nurses,Occupational Therapists,Otologists,Patients,Psychiatrists,Psychologists,Qualified health and social care disciplines,Social workers,Speech and language therapists,Students,Teachers of the deaf
ATTACH;FMTTYPE=image/jpeg:https://hashirtinnitusclinic.com/wp-content/uploads/2025/01/PEP-square-Sept-AM-2025.jpg
ORGANIZER;CN="Hashir International Institute":MAILTO:info@hashirtinnitusclinic.com
END:VEVENT
BEGIN:VEVENT
DTSTART;TZID=UTC:20251002T134500
DTEND;TZID=UTC:20251002T173000
DTSTAMP:20260421T164050
CREATED:20241011T195348Z
LAST-MODIFIED:20250729T212413Z
UID:10000009-1759412700-1759426200@hashirtinnitusclinic.com
SUMMARY:2nd International Conference on Pharmacology & Gene Therapy for Tinnitus
DESCRIPTION:We are delighted to welcome you to the second edition of the International Conference on Pharmacology & Gene Therapy for Tinnitus\, a virtual gathering hosted from the United Kingdom. This focused half-day event brings together world-leading researchers and emerging voices in the fields of auditory neuroscience\, pharmacology\, genetics\, and translational therapy. Our programme explores cutting-edge advances in tinnitus and hyperacusis research—from objective biomarkers and cortical imaging to novel pharmacological approaches and animal models.
URL:https://hashirtinnitusclinic.com/calendar/2nd-international-conference-on-pharmacology-gene-therapy-for-tinnitus/
CATEGORIES:Audiologists,Conference,For All,General medicine,Hearing aid dispensers,Neurologists,Nurses,Occupational Therapists,Otologists,Patients,Psychiatrists,Psychologists,Qualified health and social care disciplines,Social workers,Speech and language therapists,Students,Teachers of the deaf,Who should attend?
ATTACH;FMTTYPE=image/jpeg:https://hashirtinnitusclinic.com/wp-content/uploads/2024/10/Pharma.jpg
ORGANIZER;CN="Hashir International Institute":MAILTO:info@hashirtinnitusclinic.com
END:VEVENT
BEGIN:VEVENT
DTSTART;TZID=UTC:20251006T183000
DTEND;TZID=UTC:20251006T193000
DTSTAMP:20260421T164050
CREATED:20250206T163309Z
LAST-MODIFIED:20250206T163309Z
UID:10000019-1759775400-1759779000@hashirtinnitusclinic.com
SUMMARY:Does tinnitus get louder after a nap?
DESCRIPTION:The guest speaker in our Patient Education Programme (PEP) planned for Monday 6th October 2025 at 6:30 PM to 7:30 PM (UK time) is Dr Robin Guillard (PhD) from Université de Grenoble Alpes\, France. He will be talking about his latest research on the interactions between tinnitus and sleep. Joanna Barker (Audiologist\, Specialist in Tinnitus\, Hyperacusis and Misophonia Rehabilitation) will be hosting this PEP meeting.\n\nDr Robin Guillard will present results from recent research conducted by their team on interactions between tinnitus and sleep\, covering how and why sometimes patients wake up with louder tinnitus than before sleep onset\, and whether or not tinnitus manifests during dreams. There will be the chance to ask us any questions\, so please join live to ask your questions!\n\nThis event is suitable for members of public who are interested to learn about tinnitus\, hyperacusis and misophonia\, patients\, parents of children with hyperacusis or misophonia\, students\, Audiologists\, Hearing therapists\, Hearing aid dispensers\, Psychologists\, Psychiatrists\, Otologists\, Neurologists\, Speech and language therapists\, Occupational therapists\, Nurses\, Teachers of the deaf\, social workers\, General medicine\, or other qualified health and social care disciplines.
URL:https://hashirtinnitusclinic.com/calendar/does-tinnitus-get-louder-after-a-nap/
CATEGORIES:Audiologists,General medicine,Hearing aid dispensers,Neurologists,Nurses,Occupational Therapists,Otologists,Patients,Psychiatrists,Psychologists,Qualified health and social care disciplines,Social workers,Speech and language therapists,Students,Teachers of the deaf,Who should attend?
ATTACH;FMTTYPE=image/jpeg:https://hashirtinnitusclinic.com/wp-content/uploads/2025/02/PEP-square-1.jpg
ORGANIZER;CN="Hashir International Institute":MAILTO:info@hashirtinnitusclinic.com
END:VEVENT
BEGIN:VEVENT
DTSTART;TZID=UTC:20251103T183000
DTEND;TZID=UTC:20251103T193000
DTSTAMP:20260421T164050
CREATED:20250227T190739Z
LAST-MODIFIED:20250227T190739Z
UID:10000022-1762194600-1762198200@hashirtinnitusclinic.com
SUMMARY:Why is this song stuck in my head? The psychology of the earworm experience
DESCRIPTION:Dr Kelly Jakubowski talks about her research on the spontaneous mental recall and repetition of music in the ‘mind’s ear’\, known as involuntary musical imagery or ‘earworms’\, is a frequent and ubiquitous experience in the Western world. Despite its widespread prevalence\, psychological enquiry into the mechanisms underlying the earworm experience is relatively recent. Over the past decade and a half\, she and other researchers have begun to unpack the common triggers of earworm episodes and the contexts in which earworms most likely to occur\, individual differences in personality\, musical background\, and cognitive styles that predict earworm frequency and reactions to earworms\, and effective strategies for alleviating unwanted earworms. Dr Kelly Jakubowski’s research has also uncovered specific musical features that predict whether a song is likely to become an earworm\, and how features of earworm songs impact our everyday moods and activities. Beyond the conception of earworms an “uninvited visitors” in our minds\, recent research has also begun to reveal how earworms might play a functional role in our lives\, providing new insights into how inner music interacts with other cognitive processes like memory\, attention\, and emotion.
URL:https://hashirtinnitusclinic.com/calendar/why-is-this-song-stuck-in-my-head-the-psychology-of-the-earworm-experience/
CATEGORIES:Audiologists,General medicine,Hearing aid dispensers,Neurologists,Nurses,Occupational Therapists,Otologists,Patients,Psychiatrists,Psychologists,Qualified health and social care disciplines,Social workers,Speech and language therapists,Students,Teachers of the deaf,Who should attend?
ATTACH;FMTTYPE=image/jpeg:https://hashirtinnitusclinic.com/wp-content/uploads/2025/02/kelly.jpg
ORGANIZER;CN="Hashir International Institute":MAILTO:info@hashirtinnitusclinic.com
END:VEVENT
BEGIN:VEVENT
DTSTART;VALUE=DATE:20251114
DTEND;VALUE=DATE:20251115
DTSTAMP:20260421T164050
CREATED:20250206T174412Z
LAST-MODIFIED:20250731T103346Z
UID:10000021-1763078400-1763164799@hashirtinnitusclinic.com
SUMMARY:1st International Seminar on Emotional and Sensory Experiences in Children with Autism Spectrum Disorder
DESCRIPTION:The aim of this seminar is to explore different aspects of emotional and sensory experiences in children with ASD ranging from problems in emotion identification and regulation ability to dysfunctional processing of sensory information from different systems in their body such as tactile\, vestibular\, proprioceptive\, visual\, auditory\, gustatory\, and olfactory. The focus of the seminar is to help the participants to better understand the needs of this population\, learn about the technological\, medical and therapeutic support available\, and highlight the directions for future research and development.\n\nThis event is suitable for occupational therapists (OT)\, teachers\, managers of health and educational services for children\, general practitioners (GP)\, policy makers\, relevant charities\, social workers\, psychologists\, audiologists\, paediatricians\, any other interested health-and social-care professionals and parents of children with ASD. This seminar brings together studies of OT\, mental health\, neuroscience\, audiology\, neurology\, and other areas. A wide range of presentations are planned which offer practical guide for improving your services for children with ASD.
URL:https://hashirtinnitusclinic.com/calendar/1st-international-seminar-on-emotional-and-sensory-experiences-in-children-with-autism-spectrum-disorder/
CATEGORIES:Audiologists,General medicine,Hearing aid dispensers,Neurologists,Nurses,Occupational Therapists,Otologists,Patients,Psychiatrists,Psychologists,Qualified health and social care disciplines,Social workers,Speech and language therapists,Students,Teachers of the deaf,Who should attend?
ATTACH;FMTTYPE=image/jpeg:https://hashirtinnitusclinic.com/wp-content/uploads/2025/02/ASD-square2.jpg
ORGANIZER;CN="Hashir International Institute":MAILTO:info@hashirtinnitusclinic.com
END:VEVENT
BEGIN:VEVENT
DTSTART;TZID=UTC:20251201T190000
DTEND;TZID=UTC:20251201T200000
DTSTAMP:20260421T164050
CREATED:20250620T162120Z
LAST-MODIFIED:20250620T162239Z
UID:10000024-1764615600-1764619200@hashirtinnitusclinic.com
SUMMARY:Work absence and ability in people with tinnitus and hyperacusis
DESCRIPTION:🎤 Patient Education Event\nTinnitus\, Hyperacusis and Work: What the Research Shows🗓 1st December 2025 | 🕖 7–8 PM (UK Time)👥 With Kaia Ringstad Andreassen & Guri Engernes Nielsen🎙 Hosted by Joanna Barker \nHow do tinnitus and hyperacusis affect people at work? Join us for an insightful session exploring new research from Norwegian hearing clinics\, revealing that over 60% of adults with these conditions report reduced work ability—and hyperacusis plays a key role. \nThis talk highlights: \n\n\n 	The impact of sound sensitivity on different jobs\n 	Why hyperacusis matters more than we realise\n 	Practical implications for workplace support\n\nFree and open to all. Join us live for this important conversation.
URL:https://hashirtinnitusclinic.com/calendar/work-absence-and-ability-in-people-with-tinnitus-and-hyperacusis/
CATEGORIES:Audiologists,Hearing aid dispensers,Neurologists,Nurses,Otologists,Psychiatrists,Psychologists,Social workers,Speech and language therapists,Teachers of the deaf
ATTACH;FMTTYPE=image/jpeg:https://hashirtinnitusclinic.com/wp-content/uploads/2025/06/PEP-square.jpg
ORGANIZER;CN="Hashir International Institute":MAILTO:info@hashirtinnitusclinic.com
END:VEVENT
END:VCALENDAR